BEGIN:VCALENDAR
VERSION:2.0
PRODID:-//Community Health Plan of Imperial County - ECPv6.15.1.1//NONSGML v1.0//EN
CALSCALE:GREGORIAN
METHOD:PUBLISH
X-WR-CALNAME:Community Health Plan of Imperial County
X-ORIGINAL-URL:https://chpiv.org
X-WR-CALDESC:Events for Community Health Plan of Imperial County
REFRESH-INTERVAL;VALUE=DURATION:PT1H
X-Robots-Tag:noindex
X-PUBLISHED-TTL:PT1H
BEGIN:VTIMEZONE
TZID:America/Los_Angeles
BEGIN:DAYLIGHT
TZOFFSETFROM:-0800
TZOFFSETTO:-0700
TZNAME:PDT
DTSTART:20240310T100000
END:DAYLIGHT
BEGIN:STANDARD
TZOFFSETFROM:-0700
TZOFFSETTO:-0800
TZNAME:PST
DTSTART:20241103T090000
END:STANDARD
END:VTIMEZONE
BEGIN:VEVENT
DTSTART;VALUE=DATE:20240115
DTEND;VALUE=DATE:20240116
DTSTAMP:20260419T182807
CREATED:20230731T204522Z
LAST-MODIFIED:20230731T204522Z
UID:442-1705276800-1705363199@chpiv.org
SUMMARY:Martin Luther King\, Jr. Day\, Office Closed
DESCRIPTION:
URL:https://chpiv.org/event/martin-luther-king-jr-day-office-closed/
LOCATION:Community Health Plan of Imperial Valley\, 512 W Aten Rd\, Imperial\, CA\, 92251\, United States
END:VEVENT
END:VCALENDAR