BEGIN:VCALENDAR
VERSION:2.0
PRODID:-//Community Health Plan of Imperial County - ECPv6.15.1.1//NONSGML v1.0//EN
CALSCALE:GREGORIAN
METHOD:PUBLISH
X-ORIGINAL-URL:https://chpiv.org
X-WR-CALDESC:Events for Community Health Plan of Imperial County
REFRESH-INTERVAL;VALUE=DURATION:PT1H
X-Robots-Tag:noindex
X-PUBLISHED-TTL:PT1H
BEGIN:VTIMEZONE
TZID:America/Los_Angeles
BEGIN:DAYLIGHT
TZOFFSETFROM:-0800
TZOFFSETTO:-0700
TZNAME:PDT
DTSTART:20240310T100000
END:DAYLIGHT
BEGIN:STANDARD
TZOFFSETFROM:-0700
TZOFFSETTO:-0800
TZNAME:PST
DTSTART:20241103T090000
END:STANDARD
END:VTIMEZONE
BEGIN:VEVENT
DTSTART;TZID=America/Los_Angeles:20240207T120000
DTEND;TZID=America/Los_Angeles:20240207T130000
DTSTAMP:20260419T170245
CREATED:20240203T020921Z
LAST-MODIFIED:20250121T204939Z
UID:1337-1707307200-1707310800@chpiv.org
SUMMARY:Finance/Executive Committee
DESCRIPTION:
URL:https://chpiv.org/event/finance-executive-committee/
LOCATION:Community Health Plan of Imperial Valley\, 512 W Aten Rd\, Imperial\, CA\, 92251\, United States
END:VEVENT
END:VCALENDAR