BEGIN:VCALENDAR
VERSION:2.0
PRODID:-//Community Health Plan of Imperial County - ECPv6.15.1.1//NONSGML v1.0//EN
CALSCALE:GREGORIAN
METHOD:PUBLISH
X-WR-CALNAME:Community Health Plan of Imperial County
X-ORIGINAL-URL:https://chpiv.org
X-WR-CALDESC:Events for Community Health Plan of Imperial County
REFRESH-INTERVAL;VALUE=DURATION:PT1H
X-Robots-Tag:noindex
X-PUBLISHED-TTL:PT1H
BEGIN:VTIMEZONE
TZID:America/Los_Angeles
BEGIN:DAYLIGHT
TZOFFSETFROM:-0800
TZOFFSETTO:-0700
TZNAME:PDT
DTSTART:20240310T100000
END:DAYLIGHT
BEGIN:STANDARD
TZOFFSETFROM:-0700
TZOFFSETTO:-0800
TZNAME:PST
DTSTART:20241103T090000
END:STANDARD
END:VTIMEZONE
BEGIN:VEVENT
DTSTART;TZID=America/Los_Angeles:20240423T140000
DTEND;TZID=America/Los_Angeles:20240423T153000
DTSTAMP:20260419T135519
CREATED:20240405T232313Z
LAST-MODIFIED:20240418T163555Z
UID:1509-1713880800-1713886200@chpiv.org
SUMMARY:Regulatory Compliance Oversight Committee (RCOC)
DESCRIPTION:
URL:https://chpiv.org/event/regulatory-compliance-oversight-committee-rcoc/
LOCATION:Community Health Plan of Imperial Valley\, 512 W Aten Rd\, Imperial\, CA\, 92251\, United States
ORGANIZER;CN="Donna Ponce%2C Commission Clerk":MAILTO:contact@chpiv.org
END:VEVENT
END:VCALENDAR